BEGIN:VCALENDAR
VERSION:2.0
PRODID:-//hard-events.com - ECPv6.15.11//NONSGML v1.0//EN
CALSCALE:GREGORIAN
METHOD:PUBLISH
X-WR-CALNAME:hard-events.com
X-ORIGINAL-URL:https://hard-events.com
X-WR-CALDESC:Veranstaltungen für hard-events.com
REFRESH-INTERVAL;VALUE=DURATION:PT1H
X-Robots-Tag:noindex
X-PUBLISHED-TTL:PT1H
BEGIN:VTIMEZONE
TZID:Europe/Berlin
BEGIN:DAYLIGHT
TZOFFSETFROM:+0100
TZOFFSETTO:+0200
TZNAME:CEST
DTSTART:20240331T010000
END:DAYLIGHT
BEGIN:STANDARD
TZOFFSETFROM:+0200
TZOFFSETTO:+0100
TZNAME:CET
DTSTART:20241027T010000
END:STANDARD
BEGIN:DAYLIGHT
TZOFFSETFROM:+0100
TZOFFSETTO:+0200
TZNAME:CEST
DTSTART:20250330T010000
END:DAYLIGHT
BEGIN:STANDARD
TZOFFSETFROM:+0200
TZOFFSETTO:+0100
TZNAME:CET
DTSTART:20251026T010000
END:STANDARD
BEGIN:DAYLIGHT
TZOFFSETFROM:+0100
TZOFFSETTO:+0200
TZNAME:CEST
DTSTART:20260329T010000
END:DAYLIGHT
BEGIN:STANDARD
TZOFFSETFROM:+0200
TZOFFSETTO:+0100
TZNAME:CET
DTSTART:20261025T010000
END:STANDARD
BEGIN:DAYLIGHT
TZOFFSETFROM:+0100
TZOFFSETTO:+0200
TZNAME:CEST
DTSTART:20270328T010000
END:DAYLIGHT
BEGIN:STANDARD
TZOFFSETFROM:+0200
TZOFFSETTO:+0100
TZNAME:CET
DTSTART:20271031T010000
END:STANDARD
END:VTIMEZONE
BEGIN:VEVENT
DTSTART;TZID=Europe/Berlin:20260418T120000
DTEND;TZID=Europe/Berlin:20260418T230000
DTSTAMP:20260422T124106
CREATED:20250702T163621Z
LAST-MODIFIED:20250702T163621Z
UID:68690-1776513600-1776553200@hard-events.com
SUMMARY:HARDFEST
DESCRIPTION:
URL:https://hard-events.com/event/hardfest-2/
LOCATION:Universität Twente\, Drienerlolaan 5\, Enschede\, 7522 NB\, Netherlands
CATEGORIES:Outdoor
ATTACH;FMTTYPE=image/jpeg:https://hard-events.com/wp-content/uploads/2025/07/hardfest.jpg
END:VEVENT
BEGIN:VEVENT
DTSTART;VALUE=DATE:20260410
DTEND;VALUE=DATE:20260413
DTSTAMP:20260422T124106
CREATED:20250702T163140Z
LAST-MODIFIED:20250708T171955Z
UID:68687-1775779200-1776038399@hard-events.com
SUMMARY:REBiRTH Festival
DESCRIPTION:REBiRTH Festival markiert den offiziellen Startschuss der Festival-Saison!
URL:https://hard-events.com/event/rebirth-festival-2/
LOCATION:festivalterrein aan de Raamse\, Antwerpsebaan 7\, Helvoirt\, 5268 KB\, Niederlande
CATEGORIES:Outdoor
ATTACH;FMTTYPE=image/jpeg:https://hard-events.com/wp-content/uploads/2025/07/rebirth.jpg
END:VEVENT
BEGIN:VEVENT
DTSTART;VALUE=DATE:20260328
DTEND;VALUE=DATE:20260329
DTSTAMP:20260422T124106
CREATED:20250702T162116Z
LAST-MODIFIED:20250702T162116Z
UID:68680-1774656000-1774742399@hard-events.com
SUMMARY:Masters of Hardcore
DESCRIPTION:
URL:https://hard-events.com/event/masters-of-hardcore-2/
LOCATION:Brabanthallen\, Diezekade 2\, 's-Hertogenbosch\, 5222 AK\, Niederlande
CATEGORIES:Indoor
ATTACH;FMTTYPE=image/jpeg:https://hard-events.com/wp-content/uploads/2025/07/masterofhardcore.jpg
END:VEVENT
BEGIN:VEVENT
DTSTART;VALUE=DATE:20260321
DTEND;VALUE=DATE:20260329
DTSTAMP:20260422T124106
CREATED:20250702T161800Z
LAST-MODIFIED:20250702T161800Z
UID:68677-1774051200-1774742399@hard-events.com
SUMMARY:Tomorrowland Winter
DESCRIPTION:Tomorrowland Winter ist nicht nur ein Festival\, sondern ein Erlebnis für alle Sinne. Es verbindet Musik\, Natur und Gemeinschaft auf eine Weise\, die Du nirgendwo anders finden wirst.
URL:https://hard-events.com/event/tomorrowland-winter-2/
LOCATION:Alpe d’Huez – France\, Huez\, 38750\, France
CATEGORIES:Outdoor
ATTACH;FMTTYPE=image/jpeg:https://hard-events.com/wp-content/uploads/2025/07/tomorrowland-winter.jpg
END:VEVENT
BEGIN:VEVENT
DTSTART;VALUE=DATE:20260228
DTEND;VALUE=DATE:20260301
DTSTAMP:20260422T124106
CREATED:20250628T152809Z
LAST-MODIFIED:20250628T152832Z
UID:68649-1772236800-1772323199@hard-events.com
SUMMARY:Supremacy Germany
DESCRIPTION:Supremacy\, das führende RAW-Hardstyle-Event\, kommt nach Deutschland.
URL:https://hard-events.com/event/supremacy-germany/
LOCATION:Westfahlenhallen\, Rheinlanddamm 200\, Dortmund\, 44139\, Deutschland
CATEGORIES:Indoor
ATTACH;FMTTYPE=image/jpeg:https://hard-events.com/wp-content/uploads/2025/06/supremacy-germany.jpg
END:VEVENT
BEGIN:VEVENT
DTSTART;VALUE=DATE:20260227
DTEND;VALUE=DATE:20260302
DTSTAMP:20260422T124106
CREATED:20250628T151507Z
LAST-MODIFIED:20250628T151604Z
UID:68646-1772150400-1772409599@hard-events.com
SUMMARY:Reverze
DESCRIPTION:Größtes Indoor Hardstyle Event!
URL:https://hard-events.com/event/reverze-3/
CATEGORIES:Indoor
ATTACH;FMTTYPE=image/jpeg:https://hard-events.com/wp-content/uploads/2025/06/reverze.jpg
END:VEVENT
BEGIN:VEVENT
DTSTART;VALUE=DATE:20260214
DTEND;VALUE=DATE:20260216
DTSTAMP:20260422T124106
CREATED:20250702T161214Z
LAST-MODIFIED:20250702T161214Z
UID:68675-1771027200-1771199999@hard-events.com
SUMMARY:Karnaval Festival
DESCRIPTION:Karnevalsfest ist zurück! Macht euch bereit für die größte Hardstyle Karnevalsparty aller Zeiten.
URL:https://hard-events.com/event/karnaval-festival-2/
LOCATION:Brabanthallen\, Diezekade 2\, 's-Hertogenbosch\, 5222 AK\, Niederlande
CATEGORIES:Indoor
ATTACH;FMTTYPE=image/jpeg:https://hard-events.com/wp-content/uploads/2024/11/karnavalfestival.jpg
END:VEVENT
BEGIN:VEVENT
DTSTART;VALUE=DATE:20260207
DTEND;VALUE=DATE:20260208
DTSTAMP:20260422T124106
CREATED:20250209T164911Z
LAST-MODIFIED:20250209T164911Z
UID:68160-1770422400-1770508799@hard-events.com
SUMMARY:APEX
DESCRIPTION:Apex von Musical Madness ist ein hochkarätiges Event\, das die besten Hardstyle-Acts auf einer spektakulären Bühne vereint und für unvergessliche Momente voller Energie und intensiver Beats sorgt.
URL:https://hard-events.com/event/apex-3/
LOCATION:Maimarkthalle\, Xaver-fuhr-Str. 101\, Mannheim\, 68163\, Deutschland
CATEGORIES:Indoor
ATTACH;FMTTYPE=image/jpeg:https://hard-events.com/wp-content/uploads/2025/02/apex.jpg
END:VEVENT
BEGIN:VEVENT
DTSTART;VALUE=DATE:20260207
DTEND;VALUE=DATE:20260208
DTSTAMP:20260422T124106
CREATED:20250702T160927Z
LAST-MODIFIED:20250702T160927Z
UID:68672-1770422400-1770508799@hard-events.com
SUMMARY:RESET
DESCRIPTION:
URL:https://hard-events.com/event/reset-2/
LOCATION:Poppodium 013\, Veemarktstraat 44\, Tilburg\, 5038CV\, Niederlande
CATEGORIES:Indoor
ATTACH;FMTTYPE=image/jpeg:https://hard-events.com/wp-content/uploads/2025/07/reset.jpg
END:VEVENT
BEGIN:VEVENT
DTSTART;VALUE=DATE:20251122
DTEND;VALUE=DATE:20251123
DTSTAMP:20260422T124106
CREATED:20241228T130012Z
LAST-MODIFIED:20250702T165326Z
UID:68135-1763769600-1763855999@hard-events.com
SUMMARY:I AM HARDSTYLE Eternal
DESCRIPTION:
URL:https://hard-events.com/event/i-am-hardstyle-eternal-2/
LOCATION:Autotron Rosmalen\, Graafsebaan 123C\, Rosmalen\, 5248\, Netherlands
CATEGORIES:Indoor
ATTACH;FMTTYPE=image/jpeg:https://hard-events.com/wp-content/uploads/2024/12/iamhardstyle-eternal.jpg
END:VEVENT
BEGIN:VEVENT
DTSTART;TZID=Europe/Berlin:20251011T120000
DTEND;TZID=Europe/Berlin:20251012T000000
DTSTAMP:20260422T124106
CREATED:20241026T200028Z
LAST-MODIFIED:20250207T193244Z
UID:68121-1760184000-1760227200@hard-events.com
SUMMARY:Elektrum Festival
DESCRIPTION:Das Elektrum Festival vereint die Kräfte der Macher von WiSH Outdoor und Intents Festival\, um die Festival-Saison mit einem epischen Abschluss zu krönen. Als finales Highlight des Jahres bringt Elektrum die Energie und Kreativität zweier renommierter Festivals zusammen und bietet eine unvergessliche Mischung aus spektakulären Bühnen\, erstklassigem Line-up und einer einzigartigen Atmosphäre. Ein Muss für alle\, die die Festival-Saison mit einem Knall beenden wollen!
URL:https://hard-events.com/event/elektrum-festival-2-2/
CATEGORIES:Indoor
ATTACH;FMTTYPE=image/jpeg:https://hard-events.com/wp-content/uploads/2024/10/elektrum2025.jpg
END:VEVENT
BEGIN:VEVENT
DTSTART;TZID=Europe/Berlin:20251004T200000
DTEND;TZID=Europe/Berlin:20251005T060000
DTSTAMP:20260422T124106
CREATED:20241022T092841Z
LAST-MODIFIED:20250207T193244Z
UID:68119-1759608000-1759644000@hard-events.com
SUMMARY:SYNDICATE
DESCRIPTION:Syndicate ist Deutschlands größtes Hardcore Event\, das jährlich in den Westfalenhallen Dortmund stattfindet. Es vereint tausende Fans mit explosiven Beats und internationalen Top-DJs für eine unvergessliche Nacht.
URL:https://hard-events.com/event/syndicate-2/
LOCATION:Westfahlenhallen\, Rheinlanddamm 200\, Dortmund\, 44139\, Deutschland
CATEGORIES:Indoor
ATTACH;FMTTYPE=image/jpeg:https://hard-events.com/wp-content/uploads/2024/10/syndicate.jpg
END:VEVENT
BEGIN:VEVENT
DTSTART;TZID=Europe/Berlin:20250927T120000
DTEND;TZID=Europe/Berlin:20250927T230000
DTSTAMP:20260422T124106
CREATED:20241111T160937Z
LAST-MODIFIED:20250207T193244Z
UID:68125-1758974400-1759014000@hard-events.com
SUMMARY:Melodic Madness
DESCRIPTION:Melodic Madness kehrt zurück und entfacht erneut die Leidenschaft für euphorische und melodische Hardstyle-Sounds.
URL:https://hard-events.com/event/melodic-madness-2/
LOCATION:Poppodium 013\, Veemarktstraat 44\, Tilburg\, 5038CV\, Niederlande
CATEGORIES:Indoor
ATTACH;FMTTYPE=image/jpeg:https://hard-events.com/wp-content/uploads/2024/11/melodic-madness-25.jpg
END:VEVENT
BEGIN:VEVENT
DTSTART;TZID=Europe/Berlin:20250830T120000
DTEND;TZID=Europe/Berlin:20250830T233000
DTSTAMP:20260422T124106
CREATED:20250109T163314Z
LAST-MODIFIED:20250207T193245Z
UID:68143-1756555200-1756596600@hard-events.com
SUMMARY:Into the Madness
DESCRIPTION:In to the Madness Festival ist Deutschlands größtes Outdoor-Festival\, das sich ausschließlich den härteren elektronischen Musikgenres widmet. Hier treffen sich die leidenschaftlichsten Fans\, um zu den kraftvollsten Beats der Hardcore- und Hardstyle-Szene zu feiern. Ein einzigartiges Event\, das für pure Energie und eine unvergessliche Festivalerfahrung steht.
URL:https://hard-events.com/event/into-the-madness-2-2/
LOCATION:Seepark Zülpich\, Am Wassersportsee 7\, Zülpich\, 53909\, Deutschland
CATEGORIES:Outdoor
ATTACH;FMTTYPE=image/jpeg:https://hard-events.com/wp-content/uploads/2025/01/into-the-madness-kalender.jpg
END:VEVENT
BEGIN:VEVENT
DTSTART;VALUE=DATE:20250830
DTEND;VALUE=DATE:20250831
DTSTAMP:20260422T124106
CREATED:20240902T085747Z
LAST-MODIFIED:20250207T193244Z
UID:68113-1756512000-1756598399@hard-events.com
SUMMARY:Ground Zero Festival
DESCRIPTION:Das von UDC Events und Multigroove organisierte Ground Zero Festival ist das einzige Nachtfestival der Welt\, das den härteren Musikrichtungen gewidmet ist.
URL:https://hard-events.com/event/ground-zero-festival-2-2/
LOCATION:Bussloo\, Kneuterstraat 38\, Wilp\, 7384 CT\, Niederlande
CATEGORIES:Outdoor
ATTACH;FMTTYPE=image/jpeg:https://hard-events.com/wp-content/uploads/2024/09/groundzero.jpg
END:VEVENT
BEGIN:VEVENT
DTSTART;VALUE=DATE:20250823
DTEND;VALUE=DATE:20250824
DTSTAMP:20260422T124106
CREATED:20250702T162736Z
LAST-MODIFIED:20250702T162736Z
UID:68683-1755907200-1755993599@hard-events.com
SUMMARY:Flashback Festival
DESCRIPTION:Die goldenen Tage der Harder Styles sind zurück!
URL:https://hard-events.com/event/flashback-festival/
LOCATION:Kasteel van Bossuit\, Doorniksesteenweg 581\, Avelgem\, 8583\, Belgium
CATEGORIES:Indoor
ATTACH;FMTTYPE=image/jpeg:https://hard-events.com/wp-content/uploads/2025/07/flashback.jpg
END:VEVENT
BEGIN:VEVENT
DTSTART;VALUE=DATE:20250823
DTEND;VALUE=DATE:20250824
DTSTAMP:20260422T124106
CREATED:20250111T110553Z
LAST-MODIFIED:20250207T193245Z
UID:68144-1755907200-1755993599@hard-events.com
SUMMARY:Rustyland Open Air
DESCRIPTION:ENDLICH das erste Open Air vom legendären Rustyland!
URL:https://hard-events.com/event/rustyland-open-air/
LOCATION:Volkfestplatz Hildesheim\, Vor d. Lademühle 15\, Hildesheim\, 31137\, Germany
CATEGORIES:Outdoor
ATTACH;FMTTYPE=image/jpeg:https://hard-events.com/wp-content/uploads/2025/01/rustyland.jpg
END:VEVENT
BEGIN:VEVENT
DTSTART;VALUE=DATE:20250822
DTEND;VALUE=DATE:20250825
DTSTAMP:20260422T124106
CREATED:20240903T135826Z
LAST-MODIFIED:20250207T193244Z
UID:68112-1755820800-1756079999@hard-events.com
SUMMARY:Mysteryland
DESCRIPTION:Mysteryland ist das älteste und eines der renommiertesten elektronischen Musikfestivals der Welt.
URL:https://hard-events.com/event/mysteryland-2-2/
LOCATION:Haarlemmermeer\, Paviljoenlaan 1\, Hoofddorp\, 2131 LZ\, Niederlande
CATEGORIES:Outdoor
ATTACH;FMTTYPE=image/jpeg:https://hard-events.com/wp-content/uploads/2024/09/mysteryland.jpg
END:VEVENT
BEGIN:VEVENT
DTSTART;TZID=Europe/Berlin:20250815T150000
DTEND;TZID=Europe/Berlin:20250817T233000
DTSTAMP:20260422T124106
CREATED:20240817T121850Z
LAST-MODIFIED:20250626T104541Z
UID:68080-1755270000-1755473400@hard-events.com
SUMMARY:Decibel outdoor
DESCRIPTION:Decibel Outdoor Festival ist eines der größten Harder Styles-Festivals weltweit.
URL:https://hard-events.com/event/decibel-outdoor/
LOCATION:Beekse Bergen\, Tilburgseweg\, Hilvarenbeek\, 5081 NJ\, Niederlande
CATEGORIES:Outdoor
ATTACH;FMTTYPE=image/jpeg:https://hard-events.com/wp-content/uploads/2024/08/decibel.jpg
END:VEVENT
BEGIN:VEVENT
DTSTART;TZID=Europe/Berlin:20250808T160000
DTEND;TZID=Europe/Berlin:20250810T220000
DTSTAMP:20260422T124106
CREATED:20240817T122634Z
LAST-MODIFIED:20250626T104521Z
UID:68081-1754668800-1754863200@hard-events.com
SUMMARY:Electrisize Festival
DESCRIPTION:
URL:https://hard-events.com/event/electrisize-festival/
LOCATION:Haus Hohenbusch\, Kloster Hohenbusch 1\, Erkelenz\, 41812\, Deutschland
CATEGORIES:Outdoor
ATTACH;FMTTYPE=image/jpeg:https://hard-events.com/wp-content/uploads/2024/08/Electrisize-kalender.jpg
END:VEVENT
BEGIN:VEVENT
DTSTART;TZID=Europe/Berlin:20250731T200000
DTEND;TZID=Europe/Berlin:20250803T080000
DTSTAMP:20260422T124106
CREATED:20240816T154438Z
LAST-MODIFIED:20250207T193242Z
UID:68067-1753992000-1754208000@hard-events.com
SUMMARY:NATURE ONE
DESCRIPTION:NATURE ONE ‚celebrating 30 years‘ – 350 Acts & 22 Floors – Der verrückteste Campingplatz weltweit
URL:https://hard-events.com/event/nature-one-2025-2/
LOCATION:Raketenbasis Pydna\, L225\, Hasselbach\, 56288\, Deutschland
CATEGORIES:Outdoor
ATTACH;FMTTYPE=image/jpeg:https://hard-events.com/wp-content/uploads/2024/08/nature-one.jpg
END:VEVENT
BEGIN:VEVENT
DTSTART;VALUE=DATE:20250725
DTEND;VALUE=DATE:20250728
DTSTAMP:20260422T124106
CREATED:20250204T200058Z
LAST-MODIFIED:20250207T193245Z
UID:68146-1753401600-1753660799@hard-events.com
SUMMARY:Open Beatz Festival
DESCRIPTION:
URL:https://hard-events.com/event/open-beatz-festival/
LOCATION:Open-Air-Gelände Herzogenaurach\, Puschendorfer Straße 2\, Herzogenaurach\, 91074\, Germany
CATEGORIES:Outdoor
ATTACH;FMTTYPE=image/jpeg:https://hard-events.com/wp-content/uploads/2025/02/open-beats.jpg
END:VEVENT
BEGIN:VEVENT
DTSTART;VALUE=DATE:20250725
DTEND;VALUE=DATE:20250728
DTSTAMP:20260422T124106
CREATED:20241128T190835Z
LAST-MODIFIED:20250626T104601Z
UID:68130-1753401600-1753660799@hard-events.com
SUMMARY:Tomorrowland WE 2
DESCRIPTION:Tomorrowland – das größte und spektakulärste Festival der Welt
URL:https://hard-events.com/event/tomorrowland-we-2/
LOCATION:De Schorre\, Boom\, 2850\, Belgium
CATEGORIES:Outdoor
ATTACH;FMTTYPE=image/jpeg:https://hard-events.com/wp-content/uploads/2024/11/tomorrowland-2025-kalender.jpg
END:VEVENT
BEGIN:VEVENT
DTSTART;TZID=Europe/Berlin:20250718T110000
DTEND;TZID=Europe/Berlin:20250719T230000
DTSTAMP:20260422T124106
CREATED:20240816T213531Z
LAST-MODIFIED:20250207T193242Z
UID:68075-1752836400-1752966000@hard-events.com
SUMMARY:Dominator
DESCRIPTION:Dominator 2025 feiert 20 Jahre Hardcore-Domination als das größte Hardcore-Festival der Welt! Am 18. und 19. Juli 2025 verwandelt sich der E3 Strand in Eersel erneut in das Epizentrum des Hardcore.
URL:https://hard-events.com/event/dominator/
LOCATION:E3 Strand\, Buivensedreef 10\, Eersel\, 5521 RN\, Niederlande
CATEGORIES:Outdoor
ATTACH;FMTTYPE=image/jpeg:https://hard-events.com/wp-content/uploads/2024/08/Dominator.jpg
END:VEVENT
BEGIN:VEVENT
DTSTART;VALUE=DATE:20250718
DTEND;VALUE=DATE:20250721
DTSTAMP:20260422T124106
CREATED:20250126T162658Z
LAST-MODIFIED:20250207T193245Z
UID:68145-1752796800-1753055999@hard-events.com
SUMMARY:Parookaville
DESCRIPTION:Parookaville ist eines der größten und spektakulärsten Festivals für elektronische Musik in Europa
URL:https://hard-events.com/event/parookaville/
LOCATION:Airport Weeze\, Flughafen-Ring 1\, Weeze\, 47652\, Germany
CATEGORIES:Outdoor
ATTACH;FMTTYPE=image/jpeg:https://hard-events.com/wp-content/uploads/2025/01/451736239_1031107981917905_3912299353756361650_n.jpg
END:VEVENT
BEGIN:VEVENT
DTSTART;VALUE=DATE:20250718
DTEND;VALUE=DATE:20250721
DTSTAMP:20260422T124106
CREATED:20241128T190733Z
LAST-MODIFIED:20250626T104612Z
UID:68129-1752796800-1753055999@hard-events.com
SUMMARY:Tomorrowland WE 1
DESCRIPTION:Tomorrowland – das größte und spektakulärste Festival der Welt
URL:https://hard-events.com/event/tomorrowland-we-1/
LOCATION:De Schorre\, Boom\, 2850\, Belgium
CATEGORIES:Outdoor
ATTACH;FMTTYPE=image/jpeg:https://hard-events.com/wp-content/uploads/2024/11/tomorrowland-2025-kalender.jpg
END:VEVENT
BEGIN:VEVENT
DTSTART;TZID=Europe/Berlin:20250712T130000
DTEND;TZID=Europe/Berlin:20250712T230000
DTSTAMP:20260422T124106
CREATED:20241030T121552Z
LAST-MODIFIED:20250207T193244Z
UID:68123-1752325200-1752361200@hard-events.com
SUMMARY:Vroeger Was Alles Beter
DESCRIPTION:
URL:https://hard-events.com/event/vroeger-was-alles-beter/
LOCATION:Autotron Rosmalen\, Graafsebaan 123C\, Rosmalen\, 5248\, Netherlands
CATEGORIES:Outdoor
ATTACH;FMTTYPE=image/jpeg:https://hard-events.com/wp-content/uploads/2024/10/vwab.jpg
END:VEVENT
BEGIN:VEVENT
DTSTART;VALUE=DATE:20250711
DTEND;VALUE=DATE:20250714
DTSTAMP:20260422T124106
CREATED:20241026T201428Z
LAST-MODIFIED:20250207T193244Z
UID:68122-1752192000-1752451199@hard-events.com
SUMMARY:So W'Happy Festival
DESCRIPTION:Das So Whappy Festival verspricht ein farbenfrohes\, energiegeladenes Erlebnis mit einer einzigartigen Atmosphäre und hochkarätigen Musik-Acts für alle Fans der härteren elektronischen Musik.
URL:https://hard-events.com/event/so-whappy-festival/
LOCATION:Chem. de Rumegies\, Chem. de Rumegies 4\, Brunehaut\, 7623\, Belgium
CATEGORIES:Outdoor
ATTACH;FMTTYPE=image/jpeg:https://hard-events.com/wp-content/uploads/2024/10/so-whappy.jpg
END:VEVENT
BEGIN:VEVENT
DTSTART;VALUE=DATE:20250709
DTEND;VALUE=DATE:20250714
DTSTAMP:20260422T124106
CREATED:20241203T184328Z
LAST-MODIFIED:20250708T172518Z
UID:68134-1752019200-1752451199@hard-events.com
SUMMARY:Airbeat One
DESCRIPTION:
URL:https://hard-events.com/event/airbeat-one/
LOCATION:Flugplatz Neustadt-Glewe\, Flugpl. 1\, Neustadt-Glewe\, 19306\, Germany
CATEGORIES:Outdoor
ATTACH;FMTTYPE=image/jpeg:https://hard-events.com/wp-content/uploads/2024/12/airbeat-one.jpg
END:VEVENT
BEGIN:VEVENT
DTSTART;TZID=Europe/Berlin:20250705T120000
DTEND;TZID=Europe/Berlin:20250705T235900
DTSTAMP:20260422T124106
CREATED:20240819T140518Z
LAST-MODIFIED:20250626T104036Z
UID:68085-1751716800-1751759940@hard-events.com
SUMMARY:Dreamfields Festival
DESCRIPTION:
URL:https://hard-events.com/event/dreamfields-festival/
LOCATION:Rhederlaag\, Lathum\, 6988\, Niederlande
CATEGORIES:Outdoor
ATTACH;FMTTYPE=image/jpeg:https://hard-events.com/wp-content/uploads/2024/08/dreamfields.jpg
END:VEVENT
END:VCALENDAR