BEGIN:VCALENDAR
VERSION:2.0
PRODID:-//hard-events.com - ECPv6.15.11//NONSGML v1.0//EN
CALSCALE:GREGORIAN
METHOD:PUBLISH
X-ORIGINAL-URL:https://hard-events.com
X-WR-CALDESC:Veranstaltungen für hard-events.com
REFRESH-INTERVAL;VALUE=DURATION:PT1H
X-Robots-Tag:noindex
X-PUBLISHED-TTL:PT1H
BEGIN:VTIMEZONE
TZID:Europe/Berlin
BEGIN:DAYLIGHT
TZOFFSETFROM:+0100
TZOFFSETTO:+0200
TZNAME:CEST
DTSTART:20230326T010000
END:DAYLIGHT
BEGIN:STANDARD
TZOFFSETFROM:+0200
TZOFFSETTO:+0100
TZNAME:CET
DTSTART:20231029T010000
END:STANDARD
BEGIN:DAYLIGHT
TZOFFSETFROM:+0100
TZOFFSETTO:+0200
TZNAME:CEST
DTSTART:20240331T010000
END:DAYLIGHT
BEGIN:STANDARD
TZOFFSETFROM:+0200
TZOFFSETTO:+0100
TZNAME:CET
DTSTART:20241027T010000
END:STANDARD
BEGIN:DAYLIGHT
TZOFFSETFROM:+0100
TZOFFSETTO:+0200
TZNAME:CEST
DTSTART:20250330T010000
END:DAYLIGHT
BEGIN:STANDARD
TZOFFSETFROM:+0200
TZOFFSETTO:+0100
TZNAME:CET
DTSTART:20251026T010000
END:STANDARD
END:VTIMEZONE
BEGIN:VEVENT
DTSTART;VALUE=DATE:20241031
DTEND;VALUE=DATE:20241102
DTSTAMP:20260424T201743
CREATED:20241022T091740Z
LAST-MODIFIED:20250207T193244Z
UID:68118-1730332800-1730505599@hard-events.com
SUMMARY:Faceless – Curse of Pirate Bay
DESCRIPTION:Bereit für das härteste Abenteuer deines Lebens? Das Faceless Festival lädt dich ein\, das düstere Piraten-Thema „The Curse of Pirate Bay“ zu erleben! Mit einem Line-up der Top-DJs der härteren Styles und fesselnden Live-Acts verspricht dieses Event eine unvergessliche Reise in eine Welt voller Beats\, Feuer\, und wilder Atmosphäre. Hier wartet die härteste Halloween-Party auf dich – wagst du es\, an Bord zu kommen?
URL:https://hard-events.com/event/faceless-curse-of-pirate-bay/
CATEGORIES:Indoor
ATTACH;FMTTYPE=image/jpeg:https://hard-events.com/wp-content/uploads/2024/10/faceless.jpg
END:VEVENT
BEGIN:VEVENT
DTSTART;TZID=Europe/Berlin:20241031T210000
DTEND;TZID=Europe/Berlin:20241101T060000
DTSTAMP:20260424T201743
CREATED:20240829T051001Z
LAST-MODIFIED:20250207T193244Z
UID:68110-1730408400-1730440800@hard-events.com
SUMMARY:Sub Zero Project: Halloween Special
DESCRIPTION:Sub Zero Project lädt zur Halloween Special Edition ein\, bei der die Fans eine brandneue Live-Show sowie explosive Sets von einigen der besten Acts der Szene erwarten können.
URL:https://hard-events.com/event/sub-zero-project-halloween-special/
LOCATION:Waagnatie\, Rijnkaai 150\, Antwerpen\, 2000\, Belgien
CATEGORIES:Indoor
ATTACH;FMTTYPE=image/jpeg:https://hard-events.com/wp-content/uploads/2024/08/subzeroprojekthalloween.jpg
END:VEVENT
BEGIN:VEVENT
DTSTART;TZID=Europe/Berlin:20241102T140000
DTEND;TZID=Europe/Berlin:20241102T140000
DTSTAMP:20260424T201743
CREATED:20240816T205819Z
LAST-MODIFIED:20250207T193242Z
UID:68072-1730556000-1730556000@hard-events.com
SUMMARY:Snakepit
DESCRIPTION:Snakepit 2024 bringt die härtesten Uptempo-Beats ins Klokgebouw Eindhoven. Erlebe am 2. November eine gnadenlose 10-stündige Hardcore-Session mit den besten Artists der Szene.
URL:https://hard-events.com/event/snakepit/
LOCATION:Klokgebouw\, Klokgebouw 50\, Eindhoven\, 5617 AB\, Niederlande
CATEGORIES:Indoor
ATTACH;FMTTYPE=image/jpeg:https://hard-events.com/wp-content/uploads/2024/08/SNAKEPIT.jpg
END:VEVENT
BEGIN:VEVENT
DTSTART;TZID=Europe/Berlin:20241109T120000
DTEND;TZID=Europe/Berlin:20241109T230000
DTSTAMP:20260424T201743
CREATED:20240819T170945Z
LAST-MODIFIED:20250207T193243Z
UID:68089-1731153600-1731193200@hard-events.com
SUMMARY:Melodic Madness
DESCRIPTION:Melodic Madness kehrt am 9. November zurück und entfacht erneut die Leidenschaft für euphorische und melodische Hardstyle-Sounds.
URL:https://hard-events.com/event/melodic-madness/
LOCATION:Poppodium 013\, Veemarktstraat 44\, Tilburg\, 5038CV\, Niederlande
CATEGORIES:Indoor
ATTACH;FMTTYPE=image/jpeg:https://hard-events.com/wp-content/uploads/2024/08/melodicmadness.jpg
END:VEVENT
BEGIN:VEVENT
DTSTART;TZID=Europe/Berlin:20241109T140000
DTEND;TZID=Europe/Berlin:20241109T230000
DTSTAMP:20260424T201743
CREATED:20240816T211342Z
LAST-MODIFIED:20250207T193242Z
UID:68073-1731160800-1731193200@hard-events.com
SUMMARY:MASTERMINDS
DESCRIPTION:Masterminds bringt dich am 9. November 2024 zurück in die Glanzzeit des Millennium-Hardcores. Erlebe im AFAS Live die unvergesslichen Hardcore-Klassiker von 2000 bis 2015\, präsentiert von Legenden wie The Supreme Team\, Hardcore Italia\, und Third Movement Trinity. Ein einmaliges Revival der Millennium-Hardcore-Ära\, das du nicht verpassen solltest.
URL:https://hard-events.com/event/masterminds/
LOCATION:AFAS Live\, Johan Cruijff Boulevard 590\, Amsterdam\, 1101 DS\, Niederlande
CATEGORIES:Indoor
ATTACH;FMTTYPE=image/jpeg:https://hard-events.com/wp-content/uploads/2024/08/masterminds.jpg
END:VEVENT
BEGIN:VEVENT
DTSTART;TZID=Europe/Berlin:20241109T140000
DTEND;TZID=Europe/Berlin:20241110T230000
DTSTAMP:20260424T201743
CREATED:20240821T182544Z
LAST-MODIFIED:20250207T193243Z
UID:68098-1731160800-1731279600@hard-events.com
SUMMARY:AR GANG - THE PARTY!
DESCRIPTION:Die AR Gang bringt ihre unvergleichliche Energie und verrückte Show auf die Bühne – ein unvergessliches Erlebnis voller Spaß\, Kostüme und harter Beats erwartet dich!
URL:https://hard-events.com/event/ar-gang-the-party-2/
LOCATION:Mitsubishi Electric HALLE\, Siegburger Straße 15\, Düsseldorf\, 40591\, Deutschland
CATEGORIES:Indoor
ATTACH;FMTTYPE=image/jpeg:https://hard-events.com/wp-content/uploads/2024/08/ar-gang.jpg
END:VEVENT
BEGIN:VEVENT
DTSTART;TZID=Europe/Berlin:20241109T160000
DTEND;TZID=Europe/Berlin:20241109T220000
DTSTAMP:20260424T201743
CREATED:20240819T173355Z
LAST-MODIFIED:20250207T193243Z
UID:68090-1731168000-1731189600@hard-events.com
SUMMARY:Unfold: Future Stories
DESCRIPTION:Am 9. November erobern REBiRTH Events und Unfold Records die NEXT STAGE im Poppodium 013 für ein exklusives Event. In einer intimen Boiler-Room-Atmosphäre\, die nur 600 glücklichen Gästen vorbehalten ist\, wird das zweite Jahr von Unfold Records gefeiert.
URL:https://hard-events.com/event/unfold-future-stories/
LOCATION:Poppodium 013\, Veemarktstraat 44\, Tilburg\, 5038CV\, Niederlande
CATEGORIES:Indoor
ATTACH;FMTTYPE=image/jpeg:https://hard-events.com/wp-content/uploads/2024/08/future-Stories.jpg
END:VEVENT
BEGIN:VEVENT
DTSTART;TZID=Europe/Berlin:20241116T210000
DTEND;TZID=Europe/Berlin:20241117T070000
DTSTAMP:20260424T201743
CREATED:20240816T214119Z
LAST-MODIFIED:20250207T193242Z
UID:68076-1731790800-1731826800@hard-events.com
SUMMARY:QLIMAX The Final Prophecy
DESCRIPTION:Qlimax 2024 – The Final Prophecy markiert das Ende einer Ära im GelreDome\, Arnhem. Am 16. November 2024 findet die letzte Ausgabe des legendären Events statt\, das seit 24 Jahren die Hardstyle-Szene prägt. Erlebe eine unvergessliche Nacht\, in der die mystischen Kräfte des Dark Stars entfesselt werden und die Qlimax-Geschichte ihren Höhepunkt erreicht. Ein Abschied\, den kein Fan der Szene verpassen sollte.
URL:https://hard-events.com/event/qlimax-the-final-prophecy/
LOCATION:GelreDome\, Batavierenweg 25\, Arnhem\, 6841\, Niederlande
CATEGORIES:Indoor
ATTACH;FMTTYPE=image/jpeg:https://hard-events.com/wp-content/uploads/2024/08/qlimax.jpg
END:VEVENT
BEGIN:VEVENT
DTSTART;TZID=Europe/Berlin:20241123T113000
DTEND;TZID=Europe/Berlin:20241123T113000
DTSTAMP:20260424T201743
CREATED:20240821T194111Z
LAST-MODIFIED:20250207T193243Z
UID:68103-1732361400-1732361400@hard-events.com
SUMMARY:REBELLION
DESCRIPTION:Rebellion verspricht ein intensives Rawstyle-Erlebnis mit einem hochkarätigen Line-up\, das keine Wünsche offen lässt – eine Nacht voller energiegeladener Beats und unvergesslicher Momente.
URL:https://hard-events.com/event/rebellion-2/
LOCATION:The Dome\, Kreitweg\, Haaren\, 5076 NN\, Niederlande
CATEGORIES:Indoor
ATTACH;FMTTYPE=image/jpeg:https://hard-events.com/wp-content/uploads/2024/08/rebellion.jpg
END:VEVENT
BEGIN:VEVENT
DTSTART;TZID=Europe/Berlin:20241130T180000
DTEND;TZID=Europe/Berlin:20241201T060000
DTSTAMP:20260424T201743
CREATED:20241112T170033Z
LAST-MODIFIED:20250207T193244Z
UID:68127-1732989600-1733032800@hard-events.com
SUMMARY:Fairground Festival
DESCRIPTION:
URL:https://hard-events.com/event/fairground-festival/
LOCATION:Messe Hannover\, Karlsruher Str. 4\, Laatzen\, 30880\, Germany
CATEGORIES:Indoor
ATTACH;FMTTYPE=image/jpeg:https://hard-events.com/wp-content/uploads/2024/11/fairground-festival.jpg
END:VEVENT
END:VCALENDAR