BEGIN:VCALENDAR
VERSION:2.0
PRODID:-//hard-events.com - ECPv6.15.11//NONSGML v1.0//EN
CALSCALE:GREGORIAN
METHOD:PUBLISH
X-ORIGINAL-URL:https://hard-events.com
X-WR-CALDESC:Veranstaltungen für hard-events.com
REFRESH-INTERVAL;VALUE=DURATION:PT1H
X-Robots-Tag:noindex
X-PUBLISHED-TTL:PT1H
BEGIN:VTIMEZONE
TZID:Europe/Berlin
BEGIN:DAYLIGHT
TZOFFSETFROM:+0100
TZOFFSETTO:+0200
TZNAME:CEST
DTSTART:20240331T010000
END:DAYLIGHT
BEGIN:STANDARD
TZOFFSETFROM:+0200
TZOFFSETTO:+0100
TZNAME:CET
DTSTART:20241027T010000
END:STANDARD
BEGIN:DAYLIGHT
TZOFFSETFROM:+0100
TZOFFSETTO:+0200
TZNAME:CEST
DTSTART:20250330T010000
END:DAYLIGHT
BEGIN:STANDARD
TZOFFSETFROM:+0200
TZOFFSETTO:+0100
TZNAME:CET
DTSTART:20251026T010000
END:STANDARD
BEGIN:DAYLIGHT
TZOFFSETFROM:+0100
TZOFFSETTO:+0200
TZNAME:CEST
DTSTART:20260329T010000
END:DAYLIGHT
BEGIN:STANDARD
TZOFFSETFROM:+0200
TZOFFSETTO:+0100
TZNAME:CET
DTSTART:20261025T010000
END:STANDARD
END:VTIMEZONE
BEGIN:VEVENT
DTSTART;VALUE=DATE:20250111
DTEND;VALUE=DATE:20250112
DTSTAMP:20260424T182837
CREATED:20240821T201042Z
LAST-MODIFIED:20250207T193244Z
UID:68106-1736553600-1736639999@hard-events.com
SUMMARY:Ghosttown
DESCRIPTION:Ghosttown Outdoor ist das ultimative Festival für Fans des Early Hardcore.
URL:https://hard-events.com/event/ghosttown-2-2/
CATEGORIES:Indoor
ATTACH;FMTTYPE=image/jpeg:https://hard-events.com/wp-content/uploads/2024/08/ghosttown.jpg
END:VEVENT
BEGIN:VEVENT
DTSTART;VALUE=DATE:20250118
DTEND;VALUE=DATE:20250119
DTSTAMP:20260424T182837
CREATED:20240821T192750Z
LAST-MODIFIED:20250207T193243Z
UID:68104-1737158400-1737244799@hard-events.com
SUMMARY:REACTiVATE
DESCRIPTION:REACTIVATE bringt die zeitlosen Hardstyle-Classics zurück auf die Bühne und lädt dich ein\, in eine Welt voller Emotionen und Nostalgie einzutauchen\, wie du sie noch nie zuvor erlebt hast.
URL:https://hard-events.com/event/reactivate-2/
LOCATION:Poppodium 013\, Veemarktstraat 44\, Tilburg\, 5038CV\, Niederlande
CATEGORIES:Indoor
ATTACH;FMTTYPE=image/jpeg:https://hard-events.com/wp-content/uploads/2024/08/reactivate.jpg
END:VEVENT
BEGIN:VEVENT
DTSTART;TZID=Europe/Berlin:20250125T130000
DTEND;TZID=Europe/Berlin:20250125T235900
DTSTAMP:20260424T182837
CREATED:20250102T103915Z
LAST-MODIFIED:20250207T193245Z
UID:68138-1737810000-1737849540@hard-events.com
SUMMARY:Snowbass
DESCRIPTION:das große apres-ski hardstyle Festival
URL:https://hard-events.com/event/snowbass/
LOCATION:Hemkade Zaandam\, Hemkade 48\, Zaandam\, 1506 PS\, Netherlands
CATEGORIES:Outdoor
ATTACH;FMTTYPE=image/jpeg:https://hard-events.com/wp-content/uploads/2025/01/465695044_1120280713368932_1114425524345676647_n.jpg
END:VEVENT
BEGIN:VEVENT
DTSTART;TZID=Europe/Berlin:20250125T230000
DTEND;TZID=Europe/Berlin:20250126T060000
DTSTAMP:20260424T182837
CREATED:20241020T164849Z
LAST-MODIFIED:20250207T193244Z
UID:68116-1737846000-1737871200@hard-events.com
SUMMARY:Wildstylez Timeless
DESCRIPTION:Wildstylez wird eine epische Reise durch die Evolution des Hardstyles präsentieren.
URL:https://hard-events.com/event/wildstylez-timeless/
LOCATION:AFAS Live\, Johan Cruijff Boulevard 590\, Amsterdam\, 1101 DS\, Niederlande
CATEGORIES:Indoor
ATTACH;FMTTYPE=image/jpeg:https://hard-events.com/wp-content/uploads/2024/10/463617480_1086565949492241_2056791754235045495_n.jpg
END:VEVENT
END:VCALENDAR