BEGIN:VCALENDAR
VERSION:2.0
PRODID:-//hard-events.com - ECPv6.15.11//NONSGML v1.0//EN
CALSCALE:GREGORIAN
METHOD:PUBLISH
X-WR-CALNAME:hard-events.com
X-ORIGINAL-URL:https://hard-events.com
X-WR-CALDESC:Veranstaltungen für hard-events.com
REFRESH-INTERVAL;VALUE=DURATION:PT1H
X-Robots-Tag:noindex
X-PUBLISHED-TTL:PT1H
BEGIN:VTIMEZONE
TZID:Europe/Berlin
BEGIN:DAYLIGHT
TZOFFSETFROM:+0100
TZOFFSETTO:+0200
TZNAME:CEST
DTSTART:20240331T010000
END:DAYLIGHT
BEGIN:STANDARD
TZOFFSETFROM:+0200
TZOFFSETTO:+0100
TZNAME:CET
DTSTART:20241027T010000
END:STANDARD
BEGIN:DAYLIGHT
TZOFFSETFROM:+0100
TZOFFSETTO:+0200
TZNAME:CEST
DTSTART:20250330T010000
END:DAYLIGHT
BEGIN:STANDARD
TZOFFSETFROM:+0200
TZOFFSETTO:+0100
TZNAME:CET
DTSTART:20251026T010000
END:STANDARD
BEGIN:DAYLIGHT
TZOFFSETFROM:+0100
TZOFFSETTO:+0200
TZNAME:CEST
DTSTART:20260329T010000
END:DAYLIGHT
BEGIN:STANDARD
TZOFFSETFROM:+0200
TZOFFSETTO:+0100
TZNAME:CET
DTSTART:20261025T010000
END:STANDARD
END:VTIMEZONE
BEGIN:VEVENT
DTSTART;VALUE=DATE:20250301
DTEND;VALUE=DATE:20250303
DTSTAMP:20260424T160751
CREATED:20241112T154505Z
LAST-MODIFIED:20250207T193244Z
UID:68126-1740787200-1740959999@hard-events.com
SUMMARY:Karnaval Festival
DESCRIPTION:Karnevalsfest ist zurück! Macht euch bereit für die größte Hardstyle Karnevalsparty aller Zeiten.
URL:https://hard-events.com/event/karnaval-festival/
LOCATION:Brabanthallen\, Diezekade 2\, 's-Hertogenbosch\, 5222 AK\, Niederlande
CATEGORIES:Indoor
ATTACH;FMTTYPE=image/jpeg:https://hard-events.com/wp-content/uploads/2024/11/karnavalfestival.jpg
END:VEVENT
BEGIN:VEVENT
DTSTART;VALUE=DATE:20250315
DTEND;VALUE=DATE:20250323
DTSTAMP:20260424T160751
CREATED:20240903T150651Z
LAST-MODIFIED:20250207T193244Z
UID:68114-1741996800-1742687999@hard-events.com
SUMMARY:Tomorrowland Winter
DESCRIPTION:Tomorrowland Winter ist nicht nur ein Festival\, sondern ein Erlebnis für alle Sinne. Es verbindet Musik\, Natur und Gemeinschaft auf eine Weise\, die Du nirgendwo anders finden wirst.
URL:https://hard-events.com/event/tomorrowland-winter/
LOCATION:Alpe d’Huez – France\, Huez\, 38750\, France
CATEGORIES:Outdoor
ATTACH;FMTTYPE=image/jpeg:https://hard-events.com/wp-content/uploads/2024/09/tml-winter.jpg
END:VEVENT
BEGIN:VEVENT
DTSTART;TZID=Europe/Berlin:20250329T140000
DTEND;TZID=Europe/Berlin:20250329T230000
DTSTAMP:20260424T160751
CREATED:20240816T212723Z
LAST-MODIFIED:20250207T193242Z
UID:68074-1743256800-1743289200@hard-events.com
SUMMARY:Masters of Hardcore
DESCRIPTION:Masters of Hardcore 2025 – Temple of Resonance feiert das 30-jährige Jubiläum des legendären Hardcore-Events.  Ein historisches Ereignis\, das du nicht verpassen solltest.
URL:https://hard-events.com/event/masters-of-hardcore/
LOCATION:Brabanthallen\, Diezekade 2\, 's-Hertogenbosch\, 5222 AK\, Niederlande
CATEGORIES:Indoor
ATTACH;FMTTYPE=image/jpeg:https://hard-events.com/wp-content/uploads/2024/08/mastersofhardcore.jpg
END:VEVENT
BEGIN:VEVENT
DTSTART;TZID=Europe/Berlin:20250329T150000
DTEND;TZID=Europe/Berlin:20250329T235900
DTSTAMP:20260424T160751
CREATED:20250102T102311Z
LAST-MODIFIED:20250207T193245Z
UID:68136-1743260400-1743292740@hard-events.com
SUMMARY:JOURNEY THROUGH SOUND
DESCRIPTION:Das niederländische Hardstyle-Duo Sound Rush hat mit „Journey Through Sound“ ein eigenes Event-Konzept ins Leben gerufen
URL:https://hard-events.com/event/journey-through-sound/
LOCATION:Hemkade Zaandam\, Hemkade 48\, Zaandam\, 1506 PS\, Netherlands
CATEGORIES:Indoor
ATTACH;FMTTYPE=image/jpeg:https://hard-events.com/wp-content/uploads/2025/01/470507604_122108115218663098_7839517016364794746_n.jpg
END:VEVENT
END:VCALENDAR