BEGIN:VCALENDAR
VERSION:2.0
PRODID:-//hard-events.com - ECPv6.15.11//NONSGML v1.0//EN
CALSCALE:GREGORIAN
METHOD:PUBLISH
X-WR-CALNAME:hard-events.com
X-ORIGINAL-URL:https://hard-events.com
X-WR-CALDESC:Veranstaltungen für hard-events.com
REFRESH-INTERVAL;VALUE=DURATION:PT1H
X-Robots-Tag:noindex
X-PUBLISHED-TTL:PT1H
BEGIN:VTIMEZONE
TZID:Europe/Berlin
BEGIN:DAYLIGHT
TZOFFSETFROM:+0100
TZOFFSETTO:+0200
TZNAME:CEST
DTSTART:20240331T010000
END:DAYLIGHT
BEGIN:STANDARD
TZOFFSETFROM:+0200
TZOFFSETTO:+0100
TZNAME:CET
DTSTART:20241027T010000
END:STANDARD
BEGIN:DAYLIGHT
TZOFFSETFROM:+0100
TZOFFSETTO:+0200
TZNAME:CEST
DTSTART:20250330T010000
END:DAYLIGHT
BEGIN:STANDARD
TZOFFSETFROM:+0200
TZOFFSETTO:+0100
TZNAME:CET
DTSTART:20251026T010000
END:STANDARD
BEGIN:DAYLIGHT
TZOFFSETFROM:+0100
TZOFFSETTO:+0200
TZNAME:CEST
DTSTART:20260329T010000
END:DAYLIGHT
BEGIN:STANDARD
TZOFFSETFROM:+0200
TZOFFSETTO:+0100
TZNAME:CET
DTSTART:20261025T010000
END:STANDARD
BEGIN:DAYLIGHT
TZOFFSETFROM:+0100
TZOFFSETTO:+0200
TZNAME:CEST
DTSTART:20270328T010000
END:DAYLIGHT
BEGIN:STANDARD
TZOFFSETFROM:+0200
TZOFFSETTO:+0100
TZNAME:CET
DTSTART:20271031T010000
END:STANDARD
BEGIN:DAYLIGHT
TZOFFSETFROM:+0100
TZOFFSETTO:+0200
TZNAME:CEST
DTSTART:20280326T010000
END:DAYLIGHT
BEGIN:STANDARD
TZOFFSETFROM:+0200
TZOFFSETTO:+0100
TZNAME:CET
DTSTART:20281029T010000
END:STANDARD
BEGIN:DAYLIGHT
TZOFFSETFROM:+0100
TZOFFSETTO:+0200
TZNAME:CEST
DTSTART:20290325T010000
END:DAYLIGHT
BEGIN:STANDARD
TZOFFSETFROM:+0200
TZOFFSETTO:+0100
TZNAME:CET
DTSTART:20291028T010000
END:STANDARD
END:VTIMEZONE
BEGIN:VEVENT
DTSTART;TZID=Europe/Berlin:20250411T110000
DTEND;TZID=Europe/Berlin:20250413T230000
DTSTAMP:20260424T151055
CREATED:20240819T175856Z
LAST-MODIFIED:20250207T193243Z
UID:68092-1744369200-1744585200@hard-events.com
SUMMARY:REBiRTH Festival
DESCRIPTION:REBiRTH Festival markiert den offiziellen Startschuss der Festival-Saison in den Niederlanden und ist ein Muss für alle Fans der Harder Styles.
URL:https://hard-events.com/event/rebirth-festival/
LOCATION:festivalterrein aan de Raamse\, Antwerpsebaan 7\, Helvoirt\, 5268 KB\, Niederlande
CATEGORIES:Outdoor
ATTACH;FMTTYPE=image/jpeg:https://hard-events.com/wp-content/uploads/2024/08/rebirth-festival.jpg
END:VEVENT
BEGIN:VEVENT
DTSTART;TZID=Europe/Berlin:20250419T120000
DTEND;TZID=Europe/Berlin:20250419T230000
DTSTAMP:20260424T151055
CREATED:20250103T103120Z
LAST-MODIFIED:20250207T193245Z
UID:68139-1745064000-1745103600@hard-events.com
SUMMARY:HARDFEST
DESCRIPTION:HARDFEST ist das Hardstyle- und Hardcore-Festival im Osten der Niederlande. Jedes Jahr eine Tradition für viele Festivalbesucher aus dem In- und Ausland.
URL:https://hard-events.com/event/hardfest/
LOCATION:Universität Twente\, Drienerlolaan 5\, Enschede\, 7522 NB\, Netherlands
CATEGORIES:Outdoor
ATTACH;FMTTYPE=image/jpeg:https://hard-events.com/wp-content/uploads/2025/01/467725451_1085716902992918_2728788202641748401_n.jpg
END:VEVENT
BEGIN:VEVENT
DTSTART;TZID=Europe/Berlin:20250419T150000
DTEND;TZID=Europe/Berlin:20250419T235900
DTSTAMP:20260424T151055
CREATED:20250102T103201Z
LAST-MODIFIED:20250207T193245Z
UID:68137-1745074800-1745107140@hard-events.com
SUMMARY:HISTORY OF HARDCORE
DESCRIPTION:Das „History of Hardcore“-Event zelebriert die Wurzeln und Entwicklung der Hardcore-Szene mit zwei Areas voller ikonischer Künstler und unvergesslicher Sounds.
URL:https://hard-events.com/event/history-of-hardcore/
LOCATION:Hemkade Zaandam\, Hemkade 48\, Zaandam\, 1506 PS\, Netherlands
ATTACH;FMTTYPE=image/jpeg:https://hard-events.com/wp-content/uploads/2025/01/469753340_868259848853828_1187449719849357907_n.jpg
END:VEVENT
BEGIN:VEVENT
DTSTART;TZID=Europe/Berlin:20250420T130000
DTEND;TZID=Europe/Berlin:20250420T230000
DTSTAMP:20260424T151055
CREATED:20250106T184322Z
LAST-MODIFIED:20250207T193245Z
UID:68142-1745154000-1745190000@hard-events.com
SUMMARY:XXlerator presents: Jones 6 hour
DESCRIPTION:Eine 6-stündige Reise durch die Hardstyle-Klassiker\, wie du sie noch nie erlebt hast.
URL:https://hard-events.com/event/xxlerator-presents-jones-6-hour/
LOCATION:Doornroosje\, Stationsplein 11\, Nijmegen\, 6512 AB\, Netherlands
CATEGORIES:Indoor
ATTACH;FMTTYPE=image/jpeg:https://hard-events.com/wp-content/uploads/2025/01/461325615_841439311490693_5470630812282607490_n.jpg
END:VEVENT
BEGIN:VEVENT
DTSTART;TZID=Europe/Berlin:20250426T120000
DTEND;TZID=Europe/Berlin:20250426T230000
DTSTAMP:20260424T151055
CREATED:20240816T221503Z
LAST-MODIFIED:20250207T193242Z
UID:68079-1745668800-1745708400@hard-events.com
SUMMARY:Supersized Kingsday Festival
DESCRIPTION:Supersized Kingsday Festival ist das größte Outdoor-Festival am Königstag in den Niederlanden\, das die besten Hardstyle-\, Hardcore- und andere Harder Styles-Sounds vereint.
URL:https://hard-events.com/event/supersized-kingsday-festival/
LOCATION:Aquabest\, Ekkersweijer\, Best\, 5681 RZ\, Niederlande
CATEGORIES:Outdoor
ATTACH;FMTTYPE=image/jpeg:https://hard-events.com/wp-content/uploads/2024/08/supersized-kingsday-festival-1.jpg
END:VEVENT
BEGIN:VEVENT
DTSTART;TZID=Europe/Berlin:20250430T200000
DTEND;TZID=Europe/Berlin:20250501T080000
DTSTAMP:20260424T151055
CREATED:20240815T163257Z
LAST-MODIFIED:20250207T193242Z
UID:68066-1746043200-1746086400@hard-events.com
SUMMARY:MAYDAY
DESCRIPTION:MAYDAY Dortmund – die Mutter aller Raves seit 1991\, vereint elektronische Musikfans mit legendären Beats und unvergesslichen Nächten von Techno bis Hardcore.
URL:https://hard-events.com/event/mayday/
LOCATION:Westfahlenhallen\, Rheinlanddamm 200\, Dortmund\, 44139\, Deutschland
CATEGORIES:Indoor
ATTACH;FMTTYPE=image/jpeg:https://hard-events.com/wp-content/uploads/2024/08/mayday.jpg
END:VEVENT
BEGIN:VEVENT
DTSTART;VALUE=DATE:20280430
DTEND;VALUE=DATE:20280501
DTSTAMP:20260424T151055
CREATED:20250708T170848Z
LAST-MODIFIED:20250708T171901Z
UID:68821-1840665600-1840665600@hard-events.com
SUMMARY:MAYDAY
DESCRIPTION:MAYDAY Dortmund – die Mutter aller Raves seit 1991!
URL:https://hard-events.com/event/mayday-2/
LOCATION:Westfahlenhallen\, Rheinlanddamm 200\, Dortmund\, 44139\, Deutschland
CATEGORIES:Indoor
ATTACH;FMTTYPE=image/jpeg:https://hard-events.com/wp-content/uploads/2025/07/MAYDAY.jpg
END:VEVENT
END:VCALENDAR